BEGIN:VCALENDAR
VERSION:2.0
PRODID:-//hacksw/handcal//NONSGML v1.0//EN
CALSCALE:GREGORIAN
BEGIN:VTIMEZONE
TZID:Europe/Berlin
X-LIC-LOCATION:Europe/Berlin
BEGIN:DAYLIGHT
TZOFFSETFROM:+0100
TZOFFSETTO:+0200
TZNAME:CEST
DTSTART:19700329T020000
RRULE:FREQ=YEARLY;INTERVAL=1;BYDAY=-1SU;BYMONTH=3
END:DAYLIGHT
BEGIN:STANDARD
TZOFFSETFROM:+0200
TZOFFSETTO:+0100
TZNAME:CET
DTSTART:19701025T030000
RRULE:FREQ=YEARLY;INTERVAL=1;BYDAY=-1SU;BYMONTH=10
END:STANDARD
END:VTIMEZONE
BEGIN:VEVENT
DTSTART;TZID=Europe/Berlin:20251023T090000
DTEND;TZID=Europe/Berlin:20251023T130000
UID:69ea1e360e65f
DTSTAMP:20260423T132718Z
LOCATION:Schule
DESCRIPTION:\n\nhttps://www.bpb.de/pift2025/kalender-2025/570179/ki-als-leh
 rer-aerztin-oder-partner-grenzen-und-moeglichkeiten-von-kuenstlicher-intell
 igenz/
URL;VALUE=URI:https://www.bpb.de/pift2025/kalender-2025/570179/ki-als-lehre
 r-aerztin-oder-partner-grenzen-und-moeglichkeiten-von-kuenstlicher-intellig
 enz/
SUMMARY:KI als Lehrer\, Ärztin oder Partner? – Grenzen und Möglichkeite
 n von Künstlicher Intelligenz
END:VEVENT
END:VCALENDAR
