BEGIN:VCALENDAR
VERSION:2.0
PRODID:-//hacksw/handcal//NONSGML v1.0//EN
CALSCALE:GREGORIAN
BEGIN:VTIMEZONE
TZID:Europe/Berlin
X-LIC-LOCATION:Europe/Berlin
BEGIN:DAYLIGHT
TZOFFSETFROM:+0100
TZOFFSETTO:+0200
TZNAME:CEST
DTSTART:19700329T020000
RRULE:FREQ=YEARLY;INTERVAL=1;BYDAY=-1SU;BYMONTH=3
END:DAYLIGHT
BEGIN:STANDARD
TZOFFSETFROM:+0200
TZOFFSETTO:+0100
TZNAME:CET
DTSTART:19701025T030000
RRULE:FREQ=YEARLY;INTERVAL=1;BYDAY=-1SU;BYMONTH=10
END:STANDARD
END:VTIMEZONE
BEGIN:VEVENT
DTSTART;TZID=Europe/Berlin:20251020T190000
DTEND;TZID=Europe/Berlin:20251020T210000
UID:69e50c8a40a96
DTSTAMP:20260419T171034Z
LOCATION:Deutsche Nationalbibliothek
DESCRIPTION:\n\nhttps://www.bpb.de/pift2025/kalender-2025/570293/israel-und
 -palaestina-wie-lassen-sich-grenzen-ueberwinden/
URL;VALUE=URI:https://www.bpb.de/pift2025/kalender-2025/570293/israel-und-p
 alaestina-wie-lassen-sich-grenzen-ueberwinden/
SUMMARY:Israel und Palästina: Wie lassen sich Grenzen überwinden?
END:VEVENT
END:VCALENDAR
