BEGIN:VCALENDAR
VERSION:2.0
PRODID:-//hacksw/handcal//NONSGML v1.0//EN
CALSCALE:GREGORIAN
BEGIN:VTIMEZONE
TZID:Europe/Berlin
X-LIC-LOCATION:Europe/Berlin
BEGIN:DAYLIGHT
TZOFFSETFROM:+0100
TZOFFSETTO:+0200
TZNAME:CEST
DTSTART:19700329T020000
RRULE:FREQ=YEARLY;INTERVAL=1;BYDAY=-1SU;BYMONTH=3
END:DAYLIGHT
BEGIN:STANDARD
TZOFFSETFROM:+0200
TZOFFSETTO:+0100
TZNAME:CET
DTSTART:19701025T030000
RRULE:FREQ=YEARLY;INTERVAL=1;BYDAY=-1SU;BYMONTH=10
END:STANDARD
END:VTIMEZONE
BEGIN:VEVENT
DTSTART;TZID=Europe/Berlin:20251029T130000
DTEND;TZID=Europe/Berlin:20251029T140000
UID:69e53c59146f2
DTSTAMP:20260419T203433Z
LOCATION:
DESCRIPTION:Drei Jahre nach dem Launch von ChatGPT fragen wir uns gemeinsam
  mit Katharina Köth: Was davon ist aktuell möglich? Wo und wie können KI
  Tools die Bildungsarbeit unterstützen?\n\nhttps://www.bpb.de/veranstaltun
 gen/reihen/ki-am-mittag/571656/tools-tricks/
URL;VALUE=URI:https://www.bpb.de/veranstaltungen/reihen/ki-am-mittag/571656
 /tools-tricks/
SUMMARY:Tools & Tricks
END:VEVENT
END:VCALENDAR
