BEGIN:VCALENDAR
VERSION:2.0
PRODID:-//hacksw/handcal//NONSGML v1.0//EN
CALSCALE:GREGORIAN
BEGIN:VTIMEZONE
TZID:Europe/Berlin
X-LIC-LOCATION:Europe/Berlin
BEGIN:DAYLIGHT
TZOFFSETFROM:+0100
TZOFFSETTO:+0200
TZNAME:CEST
DTSTART:19700329T020000
RRULE:FREQ=YEARLY;INTERVAL=1;BYDAY=-1SU;BYMONTH=3
END:DAYLIGHT
BEGIN:STANDARD
TZOFFSETFROM:+0200
TZOFFSETTO:+0100
TZNAME:CET
DTSTART:19701025T030000
RRULE:FREQ=YEARLY;INTERVAL=1;BYDAY=-1SU;BYMONTH=10
END:STANDARD
END:VTIMEZONE
BEGIN:VEVENT
DTSTART;TZID=Europe/Berlin:20260127T160000
DTEND;TZID=Europe/Berlin:20260127T173000
UID:69ec4208aba68
DTSTAMP:20260425T042440Z
LOCATION:Online über Zoom
DESCRIPTION:Der Webtalk beleuchtet\, wie Behörden\, Medien und Redaktionen
  in den ersten Stunden nach einem Anschlag verantwortungsvoll kommunizieren
  können.\n\nhttps://www.bpb.de/veranstaltungen/veranstaltungskalender/5741
 13/webtalk-die-macht-der-ersten-erzaehlung-medien-und-der-kampf-um-die-deut
 ungshoheit-nach-anschlaegen/
URL;VALUE=URI:https://www.bpb.de/veranstaltungen/veranstaltungskalender/574
 113/webtalk-die-macht-der-ersten-erzaehlung-medien-und-der-kampf-um-die-deu
 tungshoheit-nach-anschlaegen/
SUMMARY:Webtalk: Die Macht der ersten Erzählung: Medien und der Kampf um d
 ie Deutungshoheit nach Anschlägen
END:VEVENT
END:VCALENDAR
