BEGIN:VCALENDAR
VERSION:2.0
PRODID:-//hacksw/handcal//NONSGML v1.0//EN
CALSCALE:GREGORIAN
BEGIN:VTIMEZONE
TZID:Europe/Berlin
X-LIC-LOCATION:Europe/Berlin
BEGIN:DAYLIGHT
TZOFFSETFROM:+0100
TZOFFSETTO:+0200
TZNAME:CEST
DTSTART:19700329T020000
RRULE:FREQ=YEARLY;INTERVAL=1;BYDAY=-1SU;BYMONTH=3
END:DAYLIGHT
BEGIN:STANDARD
TZOFFSETFROM:+0200
TZOFFSETTO:+0100
TZNAME:CET
DTSTART:19701025T030000
RRULE:FREQ=YEARLY;INTERVAL=1;BYDAY=-1SU;BYMONTH=10
END:STANDARD
END:VTIMEZONE
BEGIN:VEVENT
DTSTART;TZID=Europe/Berlin:20260123T180000
DTEND;TZID=Europe/Berlin:20260123T210000
UID:69e7769047a14
DTSTAMP:20260421T130728Z
LOCATION:Dokumentationszentrum Flucht\, Vertreibung\, Versöhnung  Stresema
 nnstraße 90\, 10963 Berlin
DESCRIPTION:Podiumsgespräch und Konzert im Rahmen der Veranstaltungsreihe 
 Zerfallen. Geflohen. Angekommen?\n\nhttps://www.bpb.de/veranstaltungen/vera
 nstaltungskalender/574255/ankommen-vom-zerfall-zum-zufall/
URL;VALUE=URI:https://www.bpb.de/veranstaltungen/veranstaltungskalender/574
 255/ankommen-vom-zerfall-zum-zufall/
SUMMARY:Ankommen. Vom Zerfall zum Zufall?
END:VEVENT
END:VCALENDAR
