BEGIN:VCALENDAR
VERSION:2.0
PRODID:-//hacksw/handcal//NONSGML v1.0//EN
CALSCALE:GREGORIAN
BEGIN:VTIMEZONE
TZID:Europe/Berlin
X-LIC-LOCATION:Europe/Berlin
BEGIN:DAYLIGHT
TZOFFSETFROM:+0100
TZOFFSETTO:+0200
TZNAME:CEST
DTSTART:19700329T020000
RRULE:FREQ=YEARLY;INTERVAL=1;BYDAY=-1SU;BYMONTH=3
END:DAYLIGHT
BEGIN:STANDARD
TZOFFSETFROM:+0200
TZOFFSETTO:+0100
TZNAME:CET
DTSTART:19701025T030000
RRULE:FREQ=YEARLY;INTERVAL=1;BYDAY=-1SU;BYMONTH=10
END:STANDARD
END:VTIMEZONE
BEGIN:VEVENT
DTSTART;TZID=Europe/Berlin:20260629T120000
DTEND;TZID=Europe/Berlin:20260630T130000
UID:69e8cf88786bf
DTSTAMP:20260422T133920Z
LOCATION:Evangelische Tagungsstätte Hofgeismar im VCH Gesundbrunnen 8 3436
 9 Hofgeismar
DESCRIPTION:Politische Bildung im Alter kann ein Schlüssel zu aktiver Mitg
 estaltung sein. Die Veranstaltung beleuchtet Konzepte und Ideen für mehr T
 eilhabe und Engagement jenseits der Erwerbsphase.\n\nhttps://www.bpb.de/ver
 anstaltungen/veranstaltungskalender/577211/was-heisst-schon-alt-politische-
 bildung-und-gesellschaftliche-teilhabe-aelterer-menschen/
URL;VALUE=URI:https://www.bpb.de/veranstaltungen/veranstaltungskalender/577
 211/was-heisst-schon-alt-politische-bildung-und-gesellschaftliche-teilhabe-
 aelterer-menschen/
SUMMARY:„Was heißt schon alt? Politische Bildung und gesellschaftliche T
 eilhabe älterer Menschen.“
END:VEVENT
END:VCALENDAR
