BEGIN:VCALENDAR
VERSION:2.0
PRODID:-//hacksw/handcal//NONSGML v1.0//EN
CALSCALE:GREGORIAN
BEGIN:VTIMEZONE
TZID:Europe/Berlin
X-LIC-LOCATION:Europe/Berlin
BEGIN:DAYLIGHT
TZOFFSETFROM:+0100
TZOFFSETTO:+0200
TZNAME:CEST
DTSTART:19700329T020000
RRULE:FREQ=YEARLY;INTERVAL=1;BYDAY=-1SU;BYMONTH=3
END:DAYLIGHT
BEGIN:STANDARD
TZOFFSETFROM:+0200
TZOFFSETTO:+0100
TZNAME:CET
DTSTART:19701025T030000
RRULE:FREQ=YEARLY;INTERVAL=1;BYDAY=-1SU;BYMONTH=10
END:STANDARD
END:VTIMEZONE
BEGIN:VEVENT
DTSTART;TZID=Europe/Berlin:20260519T000000
DTEND;TZID=Europe/Berlin:20260630T000000
UID:69ea7bade8c73
DTSTAMP:20260423T200605Z
LOCATION:Harmonie Arthaus Kino Grünwälderstraße 16-18 79098 Freiburg im 
 Breisgau
DESCRIPTION:Die Radikalisierung junger Menschen steht in den letzten Jahren
  verstärkt im Fokus der deutschen Öffentlichkeit. Die Filmreihe widmet si
 ch dem Phänomen aus vier verschiedenen Perspektiven.\n\nhttps://www.bpb.de
 /veranstaltungen/veranstaltungskalender/577248/jung-und-radikal-freiburg/
URL;VALUE=URI:https://www.bpb.de/veranstaltungen/veranstaltungskalender/577
 248/jung-und-radikal-freiburg/
SUMMARY:Jung und radikal (Freiburg)
END:VEVENT
END:VCALENDAR
