BEGIN:VCALENDAR
VERSION:2.0
PRODID:-//hacksw/handcal//NONSGML v1.0//EN
CALSCALE:GREGORIAN
BEGIN:VTIMEZONE
TZID:Europe/Berlin
X-LIC-LOCATION:Europe/Berlin
BEGIN:DAYLIGHT
TZOFFSETFROM:+0100
TZOFFSETTO:+0200
TZNAME:CEST
DTSTART:19700329T020000
RRULE:FREQ=YEARLY;INTERVAL=1;BYDAY=-1SU;BYMONTH=3
END:DAYLIGHT
BEGIN:STANDARD
TZOFFSETFROM:+0200
TZOFFSETTO:+0100
TZNAME:CET
DTSTART:19701025T030000
RRULE:FREQ=YEARLY;INTERVAL=1;BYDAY=-1SU;BYMONTH=10
END:STANDARD
END:VTIMEZONE
BEGIN:VEVENT
DTSTART;TZID=Europe/Berlin:20260513T193000
DTEND;TZID=Europe/Berlin:20260513T235900
UID:69eba9b525ce5
DTSTAMP:20260424T173445Z
LOCATION:bpb:medienzentrum Bonn Bundeskanzlerplatz 2e 53113 Bonn
DESCRIPTION:Die Bonner Bühnen laden ein\, die Vielfalt der Bonner Theaterl
 andschaft zu erkunden. Zum ersten Mal ist das bpb:medienzentrum in Bonn als
  Spielstätte dabei.\n\nhttps://www.bpb.de/veranstaltungen/veranstaltungska
 lender/577440/bonner-theaternacht-im-bpb-medienzentrum/
URL;VALUE=URI:https://www.bpb.de/veranstaltungen/veranstaltungskalender/577
 440/bonner-theaternacht-im-bpb-medienzentrum/
SUMMARY:Bonner Theaternacht im bpb:medienzentrum
END:VEVENT
END:VCALENDAR
